BEGIN:VCALENDAR
VERSION:2.0
PRODID:-//Santiago de Compostela Church - ECPv6.15.17.1//NONSGML v1.0//EN
CALSCALE:GREGORIAN
METHOD:PUBLISH
X-WR-CALNAME:Santiago de Compostela Church
X-ORIGINAL-URL:https://www.sdccatholic.org
X-WR-CALDESC:Events for Santiago de Compostela Church
REFRESH-INTERVAL;VALUE=DURATION:PT1H
X-Robots-Tag:noindex
X-PUBLISHED-TTL:PT1H
BEGIN:VTIMEZONE
TZID:America/Los_Angeles
BEGIN:DAYLIGHT
TZOFFSETFROM:-0800
TZOFFSETTO:-0700
TZNAME:PDT
DTSTART:20270314T100000
END:DAYLIGHT
BEGIN:STANDARD
TZOFFSETFROM:-0700
TZOFFSETTO:-0800
TZNAME:PST
DTSTART:20271107T090000
END:STANDARD
BEGIN:DAYLIGHT
TZOFFSETFROM:-0800
TZOFFSETTO:-0700
TZNAME:PDT
DTSTART:20280312T100000
END:DAYLIGHT
BEGIN:STANDARD
TZOFFSETFROM:-0700
TZOFFSETTO:-0800
TZNAME:PST
DTSTART:20281105T090000
END:STANDARD
BEGIN:DAYLIGHT
TZOFFSETFROM:-0800
TZOFFSETTO:-0700
TZNAME:PDT
DTSTART:20290311T100000
END:DAYLIGHT
BEGIN:STANDARD
TZOFFSETFROM:-0700
TZOFFSETTO:-0800
TZNAME:PST
DTSTART:20291104T090000
END:STANDARD
END:VTIMEZONE
BEGIN:VEVENT
DTSTART;TZID=America/Los_Angeles:20280831T184500
DTEND;TZID=America/Los_Angeles:20280831T210000
DTSTAMP:20260419T090254
CREATED:20260313T180459Z
LAST-MODIFIED:20260313T180501Z
UID:10001787-1851360300-1851368400@www.sdccatholic.org
SUMMARY:Clase de Biblia - Introducción a la Biblia
DESCRIPTION:¿Te gustaría aprender a estudiar la Biblia y profundizar en la Palabra de Dios? Te invitamos a participar en esta clase donde caminaremos y aprenderemos juntos. \n\n\n\nLas sesiones comienzan el 26 de marzo y se llevarán a cabo todos los jueves de 6:45 pm a 9:00 pm.Clases gratuitas para jóvenes y adultos. \n\n\n\nConsulta el volante para más información.
URL:https://www.sdccatholic.org/event/clase-de-biblia-introduccion-a-la-biblia/2028-08-31/
LOCATION:Santiago de Compostela Church\, 21682 Lake Forest Dr\, Lake Forest\, CA\, 92630\, United States
ATTACH;FMTTYPE=image/jpeg:https://www.sdccatholic.org/wp-content/uploads/2026/03/Clase-de-Biblia.jpg
END:VEVENT
BEGIN:VEVENT
DTSTART;TZID=America/Los_Angeles:20280904T190000
DTEND;TZID=America/Los_Angeles:20280904T200000
DTSTAMP:20260419T090254
CREATED:20260126T072704Z
LAST-MODIFIED:20260126T072707Z
UID:10001491-1851706800-1851710400@www.sdccatholic.org
SUMMARY:Rezo del Santo Rosario
DESCRIPTION:Todos los lunes nos reunimos para rezar el Santo Rosario a las 7:00 p.m. en la Iglesia.  ¡Los esperamos con alegría! 
URL:https://www.sdccatholic.org/event/rezo-del-santo-rosario/2028-09-04/
LOCATION:Santiago de Compostela Church\, 21682 Lake Forest Dr\, Lake Forest\, CA\, 92630\, United States
ATTACH;FMTTYPE=image/jpeg:https://www.sdccatholic.org/wp-content/uploads/2026/01/invitation-para-el-Rosario-.pdf-Presentation.jpg
END:VEVENT
BEGIN:VEVENT
DTSTART;TZID=America/Los_Angeles:20280907T184500
DTEND;TZID=America/Los_Angeles:20280907T210000
DTSTAMP:20260419T090254
CREATED:20260313T180459Z
LAST-MODIFIED:20260313T180501Z
UID:10001788-1851965100-1851973200@www.sdccatholic.org
SUMMARY:Clase de Biblia - Introducción a la Biblia
DESCRIPTION:¿Te gustaría aprender a estudiar la Biblia y profundizar en la Palabra de Dios? Te invitamos a participar en esta clase donde caminaremos y aprenderemos juntos. \n\n\n\nLas sesiones comienzan el 26 de marzo y se llevarán a cabo todos los jueves de 6:45 pm a 9:00 pm.Clases gratuitas para jóvenes y adultos. \n\n\n\nConsulta el volante para más información.
URL:https://www.sdccatholic.org/event/clase-de-biblia-introduccion-a-la-biblia/2028-09-07/
LOCATION:Santiago de Compostela Church\, 21682 Lake Forest Dr\, Lake Forest\, CA\, 92630\, United States
ATTACH;FMTTYPE=image/jpeg:https://www.sdccatholic.org/wp-content/uploads/2026/03/Clase-de-Biblia.jpg
END:VEVENT
BEGIN:VEVENT
DTSTART;TZID=America/Los_Angeles:20280911T190000
DTEND;TZID=America/Los_Angeles:20280911T200000
DTSTAMP:20260419T090254
CREATED:20260126T072704Z
LAST-MODIFIED:20260126T072707Z
UID:10001492-1852311600-1852315200@www.sdccatholic.org
SUMMARY:Rezo del Santo Rosario
DESCRIPTION:Todos los lunes nos reunimos para rezar el Santo Rosario a las 7:00 p.m. en la Iglesia.  ¡Los esperamos con alegría! 
URL:https://www.sdccatholic.org/event/rezo-del-santo-rosario/2028-09-11/
LOCATION:Santiago de Compostela Church\, 21682 Lake Forest Dr\, Lake Forest\, CA\, 92630\, United States
ATTACH;FMTTYPE=image/jpeg:https://www.sdccatholic.org/wp-content/uploads/2026/01/invitation-para-el-Rosario-.pdf-Presentation.jpg
END:VEVENT
BEGIN:VEVENT
DTSTART;TZID=America/Los_Angeles:20280914T184500
DTEND;TZID=America/Los_Angeles:20280914T210000
DTSTAMP:20260419T090254
CREATED:20260313T180459Z
LAST-MODIFIED:20260313T180501Z
UID:10001789-1852569900-1852578000@www.sdccatholic.org
SUMMARY:Clase de Biblia - Introducción a la Biblia
DESCRIPTION:¿Te gustaría aprender a estudiar la Biblia y profundizar en la Palabra de Dios? Te invitamos a participar en esta clase donde caminaremos y aprenderemos juntos. \n\n\n\nLas sesiones comienzan el 26 de marzo y se llevarán a cabo todos los jueves de 6:45 pm a 9:00 pm.Clases gratuitas para jóvenes y adultos. \n\n\n\nConsulta el volante para más información.
URL:https://www.sdccatholic.org/event/clase-de-biblia-introduccion-a-la-biblia/2028-09-14/
LOCATION:Santiago de Compostela Church\, 21682 Lake Forest Dr\, Lake Forest\, CA\, 92630\, United States
ATTACH;FMTTYPE=image/jpeg:https://www.sdccatholic.org/wp-content/uploads/2026/03/Clase-de-Biblia.jpg
END:VEVENT
BEGIN:VEVENT
DTSTART;TZID=America/Los_Angeles:20280918T190000
DTEND;TZID=America/Los_Angeles:20280918T200000
DTSTAMP:20260419T090254
CREATED:20260126T072704Z
LAST-MODIFIED:20260126T072707Z
UID:10001493-1852916400-1852920000@www.sdccatholic.org
SUMMARY:Rezo del Santo Rosario
DESCRIPTION:Todos los lunes nos reunimos para rezar el Santo Rosario a las 7:00 p.m. en la Iglesia.  ¡Los esperamos con alegría! 
URL:https://www.sdccatholic.org/event/rezo-del-santo-rosario/2028-09-18/
LOCATION:Santiago de Compostela Church\, 21682 Lake Forest Dr\, Lake Forest\, CA\, 92630\, United States
ATTACH;FMTTYPE=image/jpeg:https://www.sdccatholic.org/wp-content/uploads/2026/01/invitation-para-el-Rosario-.pdf-Presentation.jpg
END:VEVENT
BEGIN:VEVENT
DTSTART;TZID=America/Los_Angeles:20280920T000000
DTEND;TZID=America/Los_Angeles:20280920T235959
DTSTAMP:20260419T090254
CREATED:20251217T011006Z
LAST-MODIFIED:20251217T011046Z
UID:10001282-1853020800-1853107199@www.sdccatholic.org
SUMMARY:Overnight Adoration/ Adoracion Nocturna
DESCRIPTION:Join us for “overnight adoration for the “Respect Life” overight adoration on the third wednesday of the month starting after 8:00am mass.  \n\n\n\nÚnase a nosotros para la adoración nocturna “Respeto a la vida” el tercer miércoles del mes a partir de la misa de las 8:00am.
URL:https://www.sdccatholic.org/event/overnight-adoration-adoracion-nocturna-2/2028-09-20/
LOCATION:Santiago de Compostela Church\, 21682 Lake Forest Dr\, Lake Forest\, CA\, 92630\, United States
ATTACH;FMTTYPE=image/jpeg:https://www.sdccatholic.org/wp-content/uploads/2025/12/SP-Respect-Life-1.jpg
END:VEVENT
BEGIN:VEVENT
DTSTART;TZID=America/Los_Angeles:20280921T184500
DTEND;TZID=America/Los_Angeles:20280921T210000
DTSTAMP:20260419T090254
CREATED:20260313T180459Z
LAST-MODIFIED:20260313T180501Z
UID:10001790-1853174700-1853182800@www.sdccatholic.org
SUMMARY:Clase de Biblia - Introducción a la Biblia
DESCRIPTION:¿Te gustaría aprender a estudiar la Biblia y profundizar en la Palabra de Dios? Te invitamos a participar en esta clase donde caminaremos y aprenderemos juntos. \n\n\n\nLas sesiones comienzan el 26 de marzo y se llevarán a cabo todos los jueves de 6:45 pm a 9:00 pm.Clases gratuitas para jóvenes y adultos. \n\n\n\nConsulta el volante para más información.
URL:https://www.sdccatholic.org/event/clase-de-biblia-introduccion-a-la-biblia/2028-09-21/
LOCATION:Santiago de Compostela Church\, 21682 Lake Forest Dr\, Lake Forest\, CA\, 92630\, United States
ATTACH;FMTTYPE=image/jpeg:https://www.sdccatholic.org/wp-content/uploads/2026/03/Clase-de-Biblia.jpg
END:VEVENT
BEGIN:VEVENT
DTSTART;TZID=America/Los_Angeles:20280925T190000
DTEND;TZID=America/Los_Angeles:20280925T200000
DTSTAMP:20260419T090254
CREATED:20260126T072704Z
LAST-MODIFIED:20260126T072707Z
UID:10001494-1853521200-1853524800@www.sdccatholic.org
SUMMARY:Rezo del Santo Rosario
DESCRIPTION:Todos los lunes nos reunimos para rezar el Santo Rosario a las 7:00 p.m. en la Iglesia.  ¡Los esperamos con alegría! 
URL:https://www.sdccatholic.org/event/rezo-del-santo-rosario/2028-09-25/
LOCATION:Santiago de Compostela Church\, 21682 Lake Forest Dr\, Lake Forest\, CA\, 92630\, United States
ATTACH;FMTTYPE=image/jpeg:https://www.sdccatholic.org/wp-content/uploads/2026/01/invitation-para-el-Rosario-.pdf-Presentation.jpg
END:VEVENT
BEGIN:VEVENT
DTSTART;TZID=America/Los_Angeles:20280928T184500
DTEND;TZID=America/Los_Angeles:20280928T210000
DTSTAMP:20260419T090254
CREATED:20260313T180459Z
LAST-MODIFIED:20260313T180501Z
UID:10001791-1853779500-1853787600@www.sdccatholic.org
SUMMARY:Clase de Biblia - Introducción a la Biblia
DESCRIPTION:¿Te gustaría aprender a estudiar la Biblia y profundizar en la Palabra de Dios? Te invitamos a participar en esta clase donde caminaremos y aprenderemos juntos. \n\n\n\nLas sesiones comienzan el 26 de marzo y se llevarán a cabo todos los jueves de 6:45 pm a 9:00 pm.Clases gratuitas para jóvenes y adultos. \n\n\n\nConsulta el volante para más información.
URL:https://www.sdccatholic.org/event/clase-de-biblia-introduccion-a-la-biblia/2028-09-28/
LOCATION:Santiago de Compostela Church\, 21682 Lake Forest Dr\, Lake Forest\, CA\, 92630\, United States
ATTACH;FMTTYPE=image/jpeg:https://www.sdccatholic.org/wp-content/uploads/2026/03/Clase-de-Biblia.jpg
END:VEVENT
BEGIN:VEVENT
DTSTART;TZID=America/Los_Angeles:20281002T190000
DTEND;TZID=America/Los_Angeles:20281002T200000
DTSTAMP:20260419T090254
CREATED:20260126T072704Z
LAST-MODIFIED:20260126T072707Z
UID:10001495-1854126000-1854129600@www.sdccatholic.org
SUMMARY:Rezo del Santo Rosario
DESCRIPTION:Todos los lunes nos reunimos para rezar el Santo Rosario a las 7:00 p.m. en la Iglesia.  ¡Los esperamos con alegría! 
URL:https://www.sdccatholic.org/event/rezo-del-santo-rosario/2028-10-02/
LOCATION:Santiago de Compostela Church\, 21682 Lake Forest Dr\, Lake Forest\, CA\, 92630\, United States
ATTACH;FMTTYPE=image/jpeg:https://www.sdccatholic.org/wp-content/uploads/2026/01/invitation-para-el-Rosario-.pdf-Presentation.jpg
END:VEVENT
BEGIN:VEVENT
DTSTART;TZID=America/Los_Angeles:20281005T184500
DTEND;TZID=America/Los_Angeles:20281005T210000
DTSTAMP:20260419T090254
CREATED:20260313T180459Z
LAST-MODIFIED:20260313T180501Z
UID:10001792-1854384300-1854392400@www.sdccatholic.org
SUMMARY:Clase de Biblia - Introducción a la Biblia
DESCRIPTION:¿Te gustaría aprender a estudiar la Biblia y profundizar en la Palabra de Dios? Te invitamos a participar en esta clase donde caminaremos y aprenderemos juntos. \n\n\n\nLas sesiones comienzan el 26 de marzo y se llevarán a cabo todos los jueves de 6:45 pm a 9:00 pm.Clases gratuitas para jóvenes y adultos. \n\n\n\nConsulta el volante para más información.
URL:https://www.sdccatholic.org/event/clase-de-biblia-introduccion-a-la-biblia/2028-10-05/
LOCATION:Santiago de Compostela Church\, 21682 Lake Forest Dr\, Lake Forest\, CA\, 92630\, United States
ATTACH;FMTTYPE=image/jpeg:https://www.sdccatholic.org/wp-content/uploads/2026/03/Clase-de-Biblia.jpg
END:VEVENT
BEGIN:VEVENT
DTSTART;TZID=America/Los_Angeles:20281009T190000
DTEND;TZID=America/Los_Angeles:20281009T200000
DTSTAMP:20260419T090254
CREATED:20260126T072704Z
LAST-MODIFIED:20260126T072707Z
UID:10001496-1854730800-1854734400@www.sdccatholic.org
SUMMARY:Rezo del Santo Rosario
DESCRIPTION:Todos los lunes nos reunimos para rezar el Santo Rosario a las 7:00 p.m. en la Iglesia.  ¡Los esperamos con alegría! 
URL:https://www.sdccatholic.org/event/rezo-del-santo-rosario/2028-10-09/
LOCATION:Santiago de Compostela Church\, 21682 Lake Forest Dr\, Lake Forest\, CA\, 92630\, United States
ATTACH;FMTTYPE=image/jpeg:https://www.sdccatholic.org/wp-content/uploads/2026/01/invitation-para-el-Rosario-.pdf-Presentation.jpg
END:VEVENT
BEGIN:VEVENT
DTSTART;TZID=America/Los_Angeles:20281012T184500
DTEND;TZID=America/Los_Angeles:20281012T210000
DTSTAMP:20260419T090254
CREATED:20260313T180459Z
LAST-MODIFIED:20260313T180501Z
UID:10001793-1854989100-1854997200@www.sdccatholic.org
SUMMARY:Clase de Biblia - Introducción a la Biblia
DESCRIPTION:¿Te gustaría aprender a estudiar la Biblia y profundizar en la Palabra de Dios? Te invitamos a participar en esta clase donde caminaremos y aprenderemos juntos. \n\n\n\nLas sesiones comienzan el 26 de marzo y se llevarán a cabo todos los jueves de 6:45 pm a 9:00 pm.Clases gratuitas para jóvenes y adultos. \n\n\n\nConsulta el volante para más información.
URL:https://www.sdccatholic.org/event/clase-de-biblia-introduccion-a-la-biblia/2028-10-12/
LOCATION:Santiago de Compostela Church\, 21682 Lake Forest Dr\, Lake Forest\, CA\, 92630\, United States
ATTACH;FMTTYPE=image/jpeg:https://www.sdccatholic.org/wp-content/uploads/2026/03/Clase-de-Biblia.jpg
END:VEVENT
BEGIN:VEVENT
DTSTART;TZID=America/Los_Angeles:20281016T190000
DTEND;TZID=America/Los_Angeles:20281016T200000
DTSTAMP:20260419T090254
CREATED:20260126T072704Z
LAST-MODIFIED:20260126T072707Z
UID:10001497-1855335600-1855339200@www.sdccatholic.org
SUMMARY:Rezo del Santo Rosario
DESCRIPTION:Todos los lunes nos reunimos para rezar el Santo Rosario a las 7:00 p.m. en la Iglesia.  ¡Los esperamos con alegría! 
URL:https://www.sdccatholic.org/event/rezo-del-santo-rosario/2028-10-16/
LOCATION:Santiago de Compostela Church\, 21682 Lake Forest Dr\, Lake Forest\, CA\, 92630\, United States
ATTACH;FMTTYPE=image/jpeg:https://www.sdccatholic.org/wp-content/uploads/2026/01/invitation-para-el-Rosario-.pdf-Presentation.jpg
END:VEVENT
BEGIN:VEVENT
DTSTART;TZID=America/Los_Angeles:20281018T000000
DTEND;TZID=America/Los_Angeles:20281018T235959
DTSTAMP:20260419T090254
CREATED:20251217T011006Z
LAST-MODIFIED:20251217T011046Z
UID:10001283-1855440000-1855526399@www.sdccatholic.org
SUMMARY:Overnight Adoration/ Adoracion Nocturna
DESCRIPTION:Join us for “overnight adoration for the “Respect Life” overight adoration on the third wednesday of the month starting after 8:00am mass.  \n\n\n\nÚnase a nosotros para la adoración nocturna “Respeto a la vida” el tercer miércoles del mes a partir de la misa de las 8:00am.
URL:https://www.sdccatholic.org/event/overnight-adoration-adoracion-nocturna-2/2028-10-18/
LOCATION:Santiago de Compostela Church\, 21682 Lake Forest Dr\, Lake Forest\, CA\, 92630\, United States
ATTACH;FMTTYPE=image/jpeg:https://www.sdccatholic.org/wp-content/uploads/2025/12/SP-Respect-Life-1.jpg
END:VEVENT
BEGIN:VEVENT
DTSTART;TZID=America/Los_Angeles:20281019T184500
DTEND;TZID=America/Los_Angeles:20281019T210000
DTSTAMP:20260419T090254
CREATED:20260313T180459Z
LAST-MODIFIED:20260313T180501Z
UID:10001794-1855593900-1855602000@www.sdccatholic.org
SUMMARY:Clase de Biblia - Introducción a la Biblia
DESCRIPTION:¿Te gustaría aprender a estudiar la Biblia y profundizar en la Palabra de Dios? Te invitamos a participar en esta clase donde caminaremos y aprenderemos juntos. \n\n\n\nLas sesiones comienzan el 26 de marzo y se llevarán a cabo todos los jueves de 6:45 pm a 9:00 pm.Clases gratuitas para jóvenes y adultos. \n\n\n\nConsulta el volante para más información.
URL:https://www.sdccatholic.org/event/clase-de-biblia-introduccion-a-la-biblia/2028-10-19/
LOCATION:Santiago de Compostela Church\, 21682 Lake Forest Dr\, Lake Forest\, CA\, 92630\, United States
ATTACH;FMTTYPE=image/jpeg:https://www.sdccatholic.org/wp-content/uploads/2026/03/Clase-de-Biblia.jpg
END:VEVENT
BEGIN:VEVENT
DTSTART;TZID=America/Los_Angeles:20281023T190000
DTEND;TZID=America/Los_Angeles:20281023T200000
DTSTAMP:20260419T090254
CREATED:20260126T072704Z
LAST-MODIFIED:20260126T072707Z
UID:10001498-1855940400-1855944000@www.sdccatholic.org
SUMMARY:Rezo del Santo Rosario
DESCRIPTION:Todos los lunes nos reunimos para rezar el Santo Rosario a las 7:00 p.m. en la Iglesia.  ¡Los esperamos con alegría! 
URL:https://www.sdccatholic.org/event/rezo-del-santo-rosario/2028-10-23/
LOCATION:Santiago de Compostela Church\, 21682 Lake Forest Dr\, Lake Forest\, CA\, 92630\, United States
ATTACH;FMTTYPE=image/jpeg:https://www.sdccatholic.org/wp-content/uploads/2026/01/invitation-para-el-Rosario-.pdf-Presentation.jpg
END:VEVENT
BEGIN:VEVENT
DTSTART;TZID=America/Los_Angeles:20281026T184500
DTEND;TZID=America/Los_Angeles:20281026T210000
DTSTAMP:20260419T090254
CREATED:20260313T180459Z
LAST-MODIFIED:20260313T180501Z
UID:10001795-1856198700-1856206800@www.sdccatholic.org
SUMMARY:Clase de Biblia - Introducción a la Biblia
DESCRIPTION:¿Te gustaría aprender a estudiar la Biblia y profundizar en la Palabra de Dios? Te invitamos a participar en esta clase donde caminaremos y aprenderemos juntos. \n\n\n\nLas sesiones comienzan el 26 de marzo y se llevarán a cabo todos los jueves de 6:45 pm a 9:00 pm.Clases gratuitas para jóvenes y adultos. \n\n\n\nConsulta el volante para más información.
URL:https://www.sdccatholic.org/event/clase-de-biblia-introduccion-a-la-biblia/2028-10-26/
LOCATION:Santiago de Compostela Church\, 21682 Lake Forest Dr\, Lake Forest\, CA\, 92630\, United States
ATTACH;FMTTYPE=image/jpeg:https://www.sdccatholic.org/wp-content/uploads/2026/03/Clase-de-Biblia.jpg
END:VEVENT
BEGIN:VEVENT
DTSTART;TZID=America/Los_Angeles:20281030T190000
DTEND;TZID=America/Los_Angeles:20281030T200000
DTSTAMP:20260419T090254
CREATED:20260126T072704Z
LAST-MODIFIED:20260126T072707Z
UID:10001499-1856545200-1856548800@www.sdccatholic.org
SUMMARY:Rezo del Santo Rosario
DESCRIPTION:Todos los lunes nos reunimos para rezar el Santo Rosario a las 7:00 p.m. en la Iglesia.  ¡Los esperamos con alegría! 
URL:https://www.sdccatholic.org/event/rezo-del-santo-rosario/2028-10-30/
LOCATION:Santiago de Compostela Church\, 21682 Lake Forest Dr\, Lake Forest\, CA\, 92630\, United States
ATTACH;FMTTYPE=image/jpeg:https://www.sdccatholic.org/wp-content/uploads/2026/01/invitation-para-el-Rosario-.pdf-Presentation.jpg
END:VEVENT
BEGIN:VEVENT
DTSTART;TZID=America/Los_Angeles:20281102T184500
DTEND;TZID=America/Los_Angeles:20281102T210000
DTSTAMP:20260419T090254
CREATED:20260313T180459Z
LAST-MODIFIED:20260313T180501Z
UID:10001796-1856803500-1856811600@www.sdccatholic.org
SUMMARY:Clase de Biblia - Introducción a la Biblia
DESCRIPTION:¿Te gustaría aprender a estudiar la Biblia y profundizar en la Palabra de Dios? Te invitamos a participar en esta clase donde caminaremos y aprenderemos juntos. \n\n\n\nLas sesiones comienzan el 26 de marzo y se llevarán a cabo todos los jueves de 6:45 pm a 9:00 pm.Clases gratuitas para jóvenes y adultos. \n\n\n\nConsulta el volante para más información.
URL:https://www.sdccatholic.org/event/clase-de-biblia-introduccion-a-la-biblia/2028-11-02/
LOCATION:Santiago de Compostela Church\, 21682 Lake Forest Dr\, Lake Forest\, CA\, 92630\, United States
ATTACH;FMTTYPE=image/jpeg:https://www.sdccatholic.org/wp-content/uploads/2026/03/Clase-de-Biblia.jpg
END:VEVENT
BEGIN:VEVENT
DTSTART;TZID=America/Los_Angeles:20281106T190000
DTEND;TZID=America/Los_Angeles:20281106T200000
DTSTAMP:20260419T090254
CREATED:20260126T072704Z
LAST-MODIFIED:20260126T072707Z
UID:10001500-1857150000-1857153600@www.sdccatholic.org
SUMMARY:Rezo del Santo Rosario
DESCRIPTION:Todos los lunes nos reunimos para rezar el Santo Rosario a las 7:00 p.m. en la Iglesia.  ¡Los esperamos con alegría! 
URL:https://www.sdccatholic.org/event/rezo-del-santo-rosario/2028-11-06/
LOCATION:Santiago de Compostela Church\, 21682 Lake Forest Dr\, Lake Forest\, CA\, 92630\, United States
ATTACH;FMTTYPE=image/jpeg:https://www.sdccatholic.org/wp-content/uploads/2026/01/invitation-para-el-Rosario-.pdf-Presentation.jpg
END:VEVENT
BEGIN:VEVENT
DTSTART;TZID=America/Los_Angeles:20281109T184500
DTEND;TZID=America/Los_Angeles:20281109T210000
DTSTAMP:20260419T090254
CREATED:20260313T180459Z
LAST-MODIFIED:20260313T180501Z
UID:10001797-1857408300-1857416400@www.sdccatholic.org
SUMMARY:Clase de Biblia - Introducción a la Biblia
DESCRIPTION:¿Te gustaría aprender a estudiar la Biblia y profundizar en la Palabra de Dios? Te invitamos a participar en esta clase donde caminaremos y aprenderemos juntos. \n\n\n\nLas sesiones comienzan el 26 de marzo y se llevarán a cabo todos los jueves de 6:45 pm a 9:00 pm.Clases gratuitas para jóvenes y adultos. \n\n\n\nConsulta el volante para más información.
URL:https://www.sdccatholic.org/event/clase-de-biblia-introduccion-a-la-biblia/2028-11-09/
LOCATION:Santiago de Compostela Church\, 21682 Lake Forest Dr\, Lake Forest\, CA\, 92630\, United States
ATTACH;FMTTYPE=image/jpeg:https://www.sdccatholic.org/wp-content/uploads/2026/03/Clase-de-Biblia.jpg
END:VEVENT
BEGIN:VEVENT
DTSTART;TZID=America/Los_Angeles:20281113T190000
DTEND;TZID=America/Los_Angeles:20281113T200000
DTSTAMP:20260419T090254
CREATED:20260126T072704Z
LAST-MODIFIED:20260126T072707Z
UID:10001501-1857754800-1857758400@www.sdccatholic.org
SUMMARY:Rezo del Santo Rosario
DESCRIPTION:Todos los lunes nos reunimos para rezar el Santo Rosario a las 7:00 p.m. en la Iglesia.  ¡Los esperamos con alegría! 
URL:https://www.sdccatholic.org/event/rezo-del-santo-rosario/2028-11-13/
LOCATION:Santiago de Compostela Church\, 21682 Lake Forest Dr\, Lake Forest\, CA\, 92630\, United States
ATTACH;FMTTYPE=image/jpeg:https://www.sdccatholic.org/wp-content/uploads/2026/01/invitation-para-el-Rosario-.pdf-Presentation.jpg
END:VEVENT
BEGIN:VEVENT
DTSTART;TZID=America/Los_Angeles:20281115T000000
DTEND;TZID=America/Los_Angeles:20281115T235959
DTSTAMP:20260419T090254
CREATED:20251217T011006Z
LAST-MODIFIED:20251217T011046Z
UID:10001284-1857859200-1857945599@www.sdccatholic.org
SUMMARY:Overnight Adoration/ Adoracion Nocturna
DESCRIPTION:Join us for “overnight adoration for the “Respect Life” overight adoration on the third wednesday of the month starting after 8:00am mass.  \n\n\n\nÚnase a nosotros para la adoración nocturna “Respeto a la vida” el tercer miércoles del mes a partir de la misa de las 8:00am.
URL:https://www.sdccatholic.org/event/overnight-adoration-adoracion-nocturna-2/2028-11-15/
LOCATION:Santiago de Compostela Church\, 21682 Lake Forest Dr\, Lake Forest\, CA\, 92630\, United States
ATTACH;FMTTYPE=image/jpeg:https://www.sdccatholic.org/wp-content/uploads/2025/12/SP-Respect-Life-1.jpg
END:VEVENT
BEGIN:VEVENT
DTSTART;TZID=America/Los_Angeles:20281116T184500
DTEND;TZID=America/Los_Angeles:20281116T210000
DTSTAMP:20260419T090254
CREATED:20260313T180459Z
LAST-MODIFIED:20260313T180501Z
UID:10001798-1858013100-1858021200@www.sdccatholic.org
SUMMARY:Clase de Biblia - Introducción a la Biblia
DESCRIPTION:¿Te gustaría aprender a estudiar la Biblia y profundizar en la Palabra de Dios? Te invitamos a participar en esta clase donde caminaremos y aprenderemos juntos. \n\n\n\nLas sesiones comienzan el 26 de marzo y se llevarán a cabo todos los jueves de 6:45 pm a 9:00 pm.Clases gratuitas para jóvenes y adultos. \n\n\n\nConsulta el volante para más información.
URL:https://www.sdccatholic.org/event/clase-de-biblia-introduccion-a-la-biblia/2028-11-16/
LOCATION:Santiago de Compostela Church\, 21682 Lake Forest Dr\, Lake Forest\, CA\, 92630\, United States
ATTACH;FMTTYPE=image/jpeg:https://www.sdccatholic.org/wp-content/uploads/2026/03/Clase-de-Biblia.jpg
END:VEVENT
BEGIN:VEVENT
DTSTART;TZID=America/Los_Angeles:20281120T190000
DTEND;TZID=America/Los_Angeles:20281120T200000
DTSTAMP:20260419T090254
CREATED:20260126T072704Z
LAST-MODIFIED:20260126T072707Z
UID:10001502-1858359600-1858363200@www.sdccatholic.org
SUMMARY:Rezo del Santo Rosario
DESCRIPTION:Todos los lunes nos reunimos para rezar el Santo Rosario a las 7:00 p.m. en la Iglesia.  ¡Los esperamos con alegría! 
URL:https://www.sdccatholic.org/event/rezo-del-santo-rosario/2028-11-20/
LOCATION:Santiago de Compostela Church\, 21682 Lake Forest Dr\, Lake Forest\, CA\, 92630\, United States
ATTACH;FMTTYPE=image/jpeg:https://www.sdccatholic.org/wp-content/uploads/2026/01/invitation-para-el-Rosario-.pdf-Presentation.jpg
END:VEVENT
BEGIN:VEVENT
DTSTART;TZID=America/Los_Angeles:20281123T184500
DTEND;TZID=America/Los_Angeles:20281123T210000
DTSTAMP:20260419T090254
CREATED:20260313T180459Z
LAST-MODIFIED:20260313T180501Z
UID:10001799-1858617900-1858626000@www.sdccatholic.org
SUMMARY:Clase de Biblia - Introducción a la Biblia
DESCRIPTION:¿Te gustaría aprender a estudiar la Biblia y profundizar en la Palabra de Dios? Te invitamos a participar en esta clase donde caminaremos y aprenderemos juntos. \n\n\n\nLas sesiones comienzan el 26 de marzo y se llevarán a cabo todos los jueves de 6:45 pm a 9:00 pm.Clases gratuitas para jóvenes y adultos. \n\n\n\nConsulta el volante para más información.
URL:https://www.sdccatholic.org/event/clase-de-biblia-introduccion-a-la-biblia/2028-11-23/
LOCATION:Santiago de Compostela Church\, 21682 Lake Forest Dr\, Lake Forest\, CA\, 92630\, United States
ATTACH;FMTTYPE=image/jpeg:https://www.sdccatholic.org/wp-content/uploads/2026/03/Clase-de-Biblia.jpg
END:VEVENT
BEGIN:VEVENT
DTSTART;TZID=America/Los_Angeles:20281127T190000
DTEND;TZID=America/Los_Angeles:20281127T200000
DTSTAMP:20260419T090254
CREATED:20260126T072704Z
LAST-MODIFIED:20260126T072707Z
UID:10001503-1858964400-1858968000@www.sdccatholic.org
SUMMARY:Rezo del Santo Rosario
DESCRIPTION:Todos los lunes nos reunimos para rezar el Santo Rosario a las 7:00 p.m. en la Iglesia.  ¡Los esperamos con alegría! 
URL:https://www.sdccatholic.org/event/rezo-del-santo-rosario/2028-11-27/
LOCATION:Santiago de Compostela Church\, 21682 Lake Forest Dr\, Lake Forest\, CA\, 92630\, United States
ATTACH;FMTTYPE=image/jpeg:https://www.sdccatholic.org/wp-content/uploads/2026/01/invitation-para-el-Rosario-.pdf-Presentation.jpg
END:VEVENT
BEGIN:VEVENT
DTSTART;TZID=America/Los_Angeles:20281130T184500
DTEND;TZID=America/Los_Angeles:20281130T210000
DTSTAMP:20260419T090254
CREATED:20260313T180459Z
LAST-MODIFIED:20260313T180501Z
UID:10001800-1859222700-1859230800@www.sdccatholic.org
SUMMARY:Clase de Biblia - Introducción a la Biblia
DESCRIPTION:¿Te gustaría aprender a estudiar la Biblia y profundizar en la Palabra de Dios? Te invitamos a participar en esta clase donde caminaremos y aprenderemos juntos. \n\n\n\nLas sesiones comienzan el 26 de marzo y se llevarán a cabo todos los jueves de 6:45 pm a 9:00 pm.Clases gratuitas para jóvenes y adultos. \n\n\n\nConsulta el volante para más información.
URL:https://www.sdccatholic.org/event/clase-de-biblia-introduccion-a-la-biblia/2028-11-30/
LOCATION:Santiago de Compostela Church\, 21682 Lake Forest Dr\, Lake Forest\, CA\, 92630\, United States
ATTACH;FMTTYPE=image/jpeg:https://www.sdccatholic.org/wp-content/uploads/2026/03/Clase-de-Biblia.jpg
END:VEVENT
END:VCALENDAR